Workbook

Sheet 计算总表
A1: 导体相关参数计算表
A2: 导体 根数 | B2: 单根导 体直径 | C2: 绞合 节距 | D2: 绞合 系数 | E2: 是否镀 锡系数 | F2: 导体结 构系数 | G2: 成缆方 式系数 | H2: 导体截 面积 | J2: 导体 线规 | K2: 绞合后 外径 | L2: 导体 用量 | M2: 导体 电阻 | N2: 短路额定电流，0.2S | P2: 单位换算﹕A=(d/25.4)X1000
A3: 根 | B3: mm | C3: mm | E3: (k1) | F3: (k2) | G3: (k3) | H3: cmil | I3: mm2 | J3: AWG | K3: mm | L3: kg/km | M3: Ω/KM | N3: A | P3: 面积计算﹕B=nxA2
A4: 40 | B4: 0.2 | C4: 11 | D4: 1 | E4: 1.03 | F4: 1.04 | G4: 1.05 | H4: =(B4/25.4*1000)^2*A4 -> 2480.005 | I4: =PI()/4*B4^2*A4 -> 1.2566371 | J4: =49.8813-9.9298*LOG(H4) -> 16.175065 | K4: =((4*A4-1)/3)^0.5*B4 -> 1.456022 | L4: =0.785398163*B4*B4*8.9*D4*A4 -> 11.18407 | M4: =4*17.241/(PI()*B4^2*A4)*E4*F4*G4 -> 15.431653 | N4: =226*I4*SQRT(LN((160+234)/(70+234)))/SQRT(0.2) -> 323.38807 | P4: AWG理论值=49.8813-9.9298logB
A5: 40 | B5: 0.32 | C5: 30 | D5: 1 | E5: 1 | F5: 1 | G5: 1 | H5: =(B5/25.4*1000)^2*A5 -> 6348.8127 | I5: =PI()/4*B5^2*A5 -> 3.2169909 | J5: =49.8813-9.9298*LOG(H5) -> 12.121324 | K5: =((4*A5-1)/3)^0.5*B5 -> 2.3296352 | L5: =0.785398163*B5*B5*8.9*D5*A5 -> 28.631219 | M5: =4*17.241/(PI()*B5^2*A5)*E5*F5*G5 -> 5.3593562 | N5: =226*I5*SQRT(LN((160+234)/(70+234)))/SQRT(0.2) -> 827.87347
A6: 20 | B6: 0.45 | C6: 30 | D6: 1 | E6: 1 | F6: 1 | G6: 1 | H6: =(B6/25.4*1000)^2*A6 -> 6277.5126 | I6: =PI()/4*B6^2*A6 -> 3.1808626 | J6: =49.8813-9.9298*LOG(H6) -> 12.170029 | K6: =((4*A6-1)/3)^0.5*B6 -> 2.3092206 | L6: =0.785398163*B6*B6*8.9*D6*A6 -> 28.309677 | M6: =4*17.241/(PI()*B6^2*A6)*E6*F6*G6 -> 5.4202279 | N6: =226*I6*SQRT(LN((160+234)/(70+234)))/SQRT(0.2) -> 818.57606 | P6: d.单线直径
A7: 19 | B7: 0.2 | C7: 64 | D7: =(1+(3.14159265*K7/C7)^2)^0.5 -> 1.0012041 | E7: 1 | F7: 1 | G7: 1.056 | H7: =(B7/25.4*1000)^2*A7 -> 1178.0024 | I7: =PI()/4*B7^2*A7 -> 0.5969026 | J7: =49.8813-9.9298*LOG(H7) -> 19.385433 | K7: =((4*A7-1)/3)^0.5*B7 -> 1 | L7: =0.785398163*B7*B7*8.89*D7*A7 -> 5.3128535 | M7: =4*17.241/(PI()*B7^2*A7)*E7*F7*G7 -> 30.501619 | N7: =226*I7*SQRT(LN((160+234)/(70+234)))/SQRT(0.2) -> 153.60933 | P7: 绞线内导体的导线根数 | Q7: N | R7: 1 | S7: 3 | T7: 7 | U7: 12 | V7: 19
A8: 7 | B8: 0.2 | C8: 105 | D8: =(1+(3.14159265*K8/C8)^2)^0.5 -> 1.0001611 | E8: 1 | F8: 1 | G8: 1 | H8: =(B8/25.4*1000)^2*A8 -> 434.00087 | I8: =PI()/4*B8^2*A8 -> 0.21991149 | J8: =49.8813-9.9298*LOG(H8) -> 23.691546 | K8: =((4*A8-1)/3)^0.5*B8 -> 0.6 | L8: =0.785398163*B8*B8*8.9*D8*A8 -> 1.9575276 | M8: =4*17.241/(PI()*B8^2*A8)*E8*F8*G8 -> 78.399725 | N8: =226*I8*SQRT(LN((160+234)/(70+234)))/SQRT(0.2) -> 56.592913 | P8: n.导体单线根数
A9: 19 | B9: 0.18 | C9: =K9*18 -> 16.2 | D9: =(1+(3.14159265*K9/C9)^2)^0.5 -> 1.0151166 | E9: 1 | F9: 1 | G9: 1.056 | H9: =(B9/25.4*1000)^2*A9 -> 954.18191 | I9: =PI()/4*B9^2*A9 -> 0.48349111 | J9: =49.8813-9.9298*LOG(H9) -> 20.294158 | K9: =((4*A9-1)/3)^0.5*B9 -> 0.9 | L9: =0.785398163*B9*B9*8.89*D9*A9 -> 4.3632107 | M9: =4*17.241/(PI()*B9^2*A9)*E9*F9*G9 -> 37.65632 | N9: =226*I9*SQRT(LN((160+234)/(70+234)))/SQRT(0.2) -> 124.42356 | P9: 导体结构修正系数与导体根数之间的关系:
A10: 19 | B10: 0.57 | C10: =K10*18 -> 51.3 | D10: =(1+(3.14159265*K10/C10)^2)^0.5 -> 1.0151166 | E10: 1 | F10: 1 | G10: 1.056 | H10: =(B10/25.4*1000)^2*A10 -> 9568.3241 | I10: =PI()/4*B10^2*A10 -> 4.8483414 | J10: =49.8813-9.9298*LOG(H10) -> 10.352396 | K10: =((4*A10-1)/3)^0.5*B10 -> 2.85 | L10: =0.785398163*B10*B10*8.89*D10*A10 -> 43.753308 | M10: =4*17.241/(PI()*B10^2*A10)*E10*F10*G10 -> 3.7552009 | N10: =226*I10*SQRT(LN((160+234)/(70+234)))/SQRT(0.2) -> 1247.6918 | P10: 内导体结构的修正系数 | Q10: K1 | R10: 1 | S10: 0.871 | T10: 0.939 | U10: 0.957 | V10: 0.97
A11: 1 | B11: 0.1 | C11: 1000 | D11: =(1+(3.14159265*K11/C11)^2)^0.5 -> 1 | E11: 1 | F11: 1 | G11: 1.056 | H11: =(B11/25.4*1000)^2*A11 -> 15.500031 | I11: =PI()/4*B11^2*A11 -> 0.0078539816 | J11: =49.8813-9.9298*LOG(H11) -> 38.061536 | K11: =((4*A11-1)/3)^0.5*B11 -> 0.1 | L11: =0.785398163*B11*B11*8.89*D11*A11 -> 0.0698219 | M11: =4*17.241/(PI()*B11^2*A11)*E11*F11*G11 -> 2318.1231 | N11: =226*I11*SQRT(LN((160+234)/(70+234)))/SQRT(0.2) -> 2.0211755
A12: 19 | B12: 0.32 | C12: =K12*18 -> 28.8 | D12: =(1+(3.14159265*K12/C12)^2)^0.5 -> 1.0151166 | E12: 1 | F12: 1 | G12: 1 | H12: =(B12/25.4*1000)^2*A12 -> 3015.686 | I12: =PI()/4*B12^2*A12 -> 1.5280707 | J12: =49.8813-9.9298*LOG(H12) -> 15.331692 | K12: =((4*A12-1)/3)^0.5*B12 -> 1.6 | L12: =0.785398163*B12*B12*8.9*D12*A12 -> 13.805412 | M12: =4*17.241/(PI()*B12^2*A12)*E12*F12*G12 -> 11.282855 | N12: =226*I12*SQRT(LN((160+234)/(70+234)))/SQRT(0.2) -> 393.2399 | P12: 绞线内导体的导线根数 | Q12: N | R12: 27 | S12: 37 | T12: 50 | U12: 70 | V12: 90
A13: 1 | B13: 1.38 | C13: 998 | D13: =(1+(3.14159265*K13/C13)^2)^0.5 -> 1.0000094 | E13: 1 | F13: 1 | G13: 1.056 | H13: =(B13/25.4*1000)^2*A13 -> 2951.8259 | I13: =PI()/4*B13^2*A13 -> 1.4957123 | J13: =49.8813-9.9298*LOG(H13) -> 15.423993 | K13: =((4*A13-1)/3)^0.5*B13 -> 1.38 | L13: =0.785398163*B13*B13*8.89*D13*A13 -> 13.297007 | M13: =4*17.241/(PI()*B13^2*A13)*E13*F13*G13 -> 12.172459 | N13: =226*I13*SQRT(LN((160+234)/(70+234)))/SQRT(0.2) -> 384.91265 | P13: 内导体结构的修正系数 | Q13: K1 | R13: 0.976 | S13: 0.98 | T13: 0.983 | U13: 0.986 | V13: 0.988
A14: 19 | B14: 0.32 | C14: 999 | D14: =(1+(3.14159265*K14/C14)^2)^0.5 -> 1.0000127 | E14: 1 | F14: 1 | G14: 1.056 | H14: =(B14/25.4*1000)^2*A14 -> 3015.686 | I14: =PI()/4*B14^2*A14 -> 1.5280707 | J14: =49.8813-9.9298*LOG(H14) -> 15.331692 | K14: =((4*A14-1)/3)^0.5*B14 -> 1.6 | L14: =0.785398163*B14*B14*8.89*D14*A14 -> 13.58472 | M14: =4*17.241/(PI()*B14^2*A14)*E14*F14*G14 -> 11.914695 | N14: =226*I14*SQRT(LN((160+234)/(70+234)))/SQRT(0.2) -> 393.2399
A15: 19 | B15: 0.15 | C15: 1000 | D15: 1 | E15: 1 | F15: 1 | G15: 1 | H15: =(B15/25.4*1000)^2*A15 -> 662.62633 | I15: =PI()/4*B15^2*A15 -> 0.33575771 | J15: =49.8813-9.9298*LOG(H15) -> 21.866666 | K15: =((4*A15-1)/3)^0.5*B15 -> 0.75 | L15: =0.785398163*B15*B15*8.89*D15*A15 -> 2.9848861 | M15: =4*17.241/(PI()*B15^2*A15)*E15*F15*G15 -> 51.349527 | N15: =226*I15*SQRT(LN((160+234)/(70+234)))/SQRT(0.2) -> 86.405251 | P15: 绞线内导体的导线根数 | Q15: N | R15: 1 | S15: 3 | T15: 7 | U15: 12 | V15: 19
A16: 7 | B16: 0.25 | C16: 10000 | D16: 1 | E16: 1 | F16: 1 | G16: 1 | H16: =(B16/25.4*1000)^2*A16 -> 678.12636 | I16: =PI()/4*B16^2*A16 -> 0.3436117 | J16: =49.8813-9.9298*LOG(H16) -> 21.766952 | K16: =((4*A16-1)/3)^0.5*B16 -> 0.75 | L16: =0.785398163*B16*B16*8.89*D16*A16 -> 3.054708 | M16: =4*17.241/(PI()*B16^2*A16)*E16*F16*G16 -> 50.175824 | N16: =226*I16*SQRT(LN((160+234)/(70+234)))/SQRT(0.2) -> 88.426426 | P16: n.导体单线根数
A17: 11 | B17: 0.19 | C17: 10000 | D17: 1 | E17: 1 | F17: 1 | G17: 1 | H17: =(B17/25.4*1000)^2*A17 -> 615.50623 | I17: =PI()/4*B17^2*A17 -> 0.31188161 | J17: =49.8813-9.9298*LOG(H17) -> 22.18478 | K17: =((4*A17-1)/3)^0.5*B17 -> 0.71932839 | L17: =0.785398163*B17*B17*8.89*D17*A17 -> 2.7726275 | M17: =4*17.241/(PI()*B17^2*A17)*E17*F17*G17 -> 55.280592 | N17: =226*I17*SQRT(LN((160+234)/(70+234)))/SQRT(0.2) -> 80.260877 | P17: 导体结构修正系数与导体根数之间的关系:
A18: 20 | B18: 0.08 | C18: 1000 | D18: =(1+(3.14159265*K18/C18)^2)^0.5 -> 1.0000008 | E18: 1 | F18: 1 | G18: 1.056 | H18: =(B18/25.4*1000)^2*A18 -> 198.4004 | I18: =PI()/4*B18^2*A18 -> 0.10053096 | J18: =49.8813-9.9298*LOG(H18) -> 27.067162 | K18: =((4*A18-1)/3)^0.5*B18 -> 0.41052812 | L18: =0.785398163*B18*B18*8.89*D18*A18 -> 0.89372102 | M18: =4*17.241/(PI()*B18^2*A18)*E18*F18*G18 -> 181.10336 | N18: =226*I18*SQRT(LN((160+234)/(70+234)))/SQRT(0.2) -> 25.871046 | P18: 内导体结构的修正系数 | Q18: K1 | R18: 1 | S18: 0.871 | T18: 0.939 | U18: 0.957 | V18: 0.97
A19: 11 | B19: 0.19 | C19: 15 | D19: =(1+(3.14159265*K19/C19)^2)^0.5 -> 1.0112849 | E19: 1 | F19: 1 | G19: 1 | H19: =(B19/25.4*1000)^2*A19 -> 615.50623 | I19: =PI()/4*B19^2*A19 -> 0.31188161 | J19: =49.8813-9.9298*LOG(H19) -> 22.18478 | K19: =((4*A19-1)/3)^0.5*B19 -> 0.71932839 | L19: =0.785398163*B19*B19*8.89*D19*A19 -> 2.8039164 | M19: =4*17.241/(PI()*B19^2*A19)*E19*F19*G19 -> 55.280592 | N19: =226*I19*SQRT(LN((160+234)/(70+234)))/SQRT(0.2) -> 80.260877
B20: 电缆短路额定电流近似计算（公式）：
B21: Icu=226S*sqr{ln[(θ1+234)/ (θ0+234)]}/sqr(t)
B22: Ial=148S*sqr{ln[(θ1+228)/ (θ0+228)]}/sqr(t)
B24: Icu —— 铜导体短路电流 （A）
B25: Ial —— 铝导体短路电流 （A）
B26: S —— 导体标称截面 （mm^2）
B27: t —— 持续时间 （s）
B28: θ0 —— 初始温度 （oC，XLPE 90，PVC 70）
B29: θ1 —— 最高短路温度 （oC，XLPE 250，PVC 160）

Sheet 铜包钢与镀银厚度计算
A1: 铜包钢计算表
A2: 线径（mm) | B2: 相对导电率 | C2: 铜层厚度（μm) | D2: 铜层总重量(kg/km) | E2: 钢总重量(kg/km) | F2: 总重量(kg/km) | G2: 平均密度 (g/cm3) | H2: 导体电阻(Ω/KM)
A3: 0.6 | B3: 0.3 | C3: =(1-(1-(B3-0.134265)/(1-0.134265))^0.5)/2*A3*1000 -> 30.239855 | D3: =PI()/4*(A3*A3-(A3-C3/1000)^2)*8.89 -> 0.24698363 | E3: =PI()/4*(A3-C3*2/1000)^2*7.8 -> 1.7832 | F3: =D3+E3 -> 2.0301836 | G3: =F3/(PI()/4*A3*A3) -> 7.1803057 | H3: =17.241*4/(PI()*A3^2)/B3 -> 203.25855
A4: 0.6 | B4: 0.19 | C4: =(1-(1-(B4-0.134265)/(1-0.134265))^0.5)/2*A4*1000 -> 9.817461 | D4: =PI()/4*(A4*A4-(A4-C4/1000)^2)*8.89 -> 0.081583888 | E4: =PI()/4*(A4-C4*2/1000)^2*7.8 -> 2.0634171 | F4: =D4+E4 -> 2.145001 | G4: =F4/(PI()/4*A4*A4) -> 7.5863892 | H4: =17.241*4/(PI()*A4^2)/B4 -> 320.93455
A5: 0.46 | B5: 0.25 | C5: =(1-(1-(B5-0.134265)/(1-0.134265))^0.5)/2*A5*1000 -> 15.924987 | D5: =PI()/4*(A5*A5-(A5-C5/1000)^2)*8.89 -> 0.10052526 | E5: =PI()/4*(A5-C5*2/1000)^2*7.8 -> 1.1229914 | F5: =D5+E5 -> 1.2235167 | G5: =F5/(PI()/4*A5*A5) -> 7.3621446 | H5: =17.241*4/(PI()*A5^2)/B5 -> 414.97019
A6: 1 | B6: 0.25 | C6: =(1-(1-(B6-0.134265)/(1-0.134265))^0.5)/2*A6*1000 -> 34.619536 | D6: =PI()/4*(A6*A6-(A6-C6/1000)^2)*8.89 -> 0.47507209 | E6: =PI()/4*(A6-C6*2/1000)^2*7.8 -> 5.3071428 | F6: =D6+E6 -> 5.7822149 | G6: =F6/(PI()/4*A6*A6) -> 7.3621446 | H6: =17.241*4/(PI()*A6^2)/B6 -> 87.807692
A7: 1 | B7: 0.25 | C7: =(1-(1-(B7-0.134265)/(1-0.134265))^0.5)/2*A7*1000 -> 34.619536 | D7: =PI()/4*(A7*A7-(A7-C7/1000)^2)*8.89 -> 0.47507209 | E7: =PI()/4*(A7-C7*2/1000)^2*7.8 -> 5.3071428 | F7: =D7+E7 -> 5.7822149 | G7: =F7/(PI()/4*A7*A7) -> 7.3621446 | H7: =17.241*4/(PI()*A7^2)/B7 -> 87.807692
A8: 1 | B8: 0.3 | C8: =(1-(1-(B8-0.134265)/(1-0.134265))^0.5)/2*A8*1000 -> 50.399758 | D8: =PI()/4*(A8*A8-(A8-C8/1000)^2)*8.89 -> 0.68606563 | E8: =PI()/4*(A8-C8*2/1000)^2*7.8 -> 4.9533333 | F8: =D8+E8 -> 5.6393989 | G8: =F8/(PI()/4*A8*A8) -> 7.1803057 | H8: =17.241*4/(PI()*A8^2)/B8 -> 73.173077
A9: 1 | B9: 0.3 | C9: =(1-(1-(B9-0.134265)/(1-0.134265))^0.5)/2*A9*1000 -> 50.399758 | D9: =PI()/4*(A9*A9-(A9-C9/1000)^2)*8.89 -> 0.68606563 | E9: =PI()/4*(A9-C9*2/1000)^2*7.8 -> 4.9533333 | F9: =D9+E9 -> 5.6393989 | G9: =F9/(PI()/4*A9*A9) -> 7.1803057 | H9: =17.241*4/(PI()*A9^2)/B9 -> 73.173077
A10: 1 | B10: 0.25 | C10: =(1-(1-(B10-0.134265)/(1-0.134265))^0.5)/2*A10*1000 -> 34.619536 | D10: =PI()/4*(A10*A10-(A10-C10/1000)^2)*8.89 -> 0.47507209 | E10: =PI()/4*(A10-C10*2/1000)^2*7.8 -> 5.3071428 | F10: =D10+E10 -> 5.7822149 | G10: =F10/(PI()/4*A10*A10) -> 7.3621446 | H10: =17.241*4/(PI()*A10^2)/B10 -> 87.807692
A11: 1 | B11: 0.3 | C11: =(1-(1-(B11-0.134265)/(1-0.134265))^0.5)/2*A11*1000 -> 50.399758 | D11: =PI()/4*(A11*A11-(A11-C11/1000)^2)*8.89 -> 0.68606563 | E11: =PI()/4*(A11-C11*2/1000)^2*7.8 -> 4.9533333 | F11: =D11+E11 -> 5.6393989 | G11: =F11/(PI()/4*A11*A11) -> 7.1803057 | H11: =17.241*4/(PI()*A11^2)/B11 -> 73.173077
A12: 1 | B12: 0.3 | C12: =(1-(1-(B12-0.134265)/(1-0.134265))^0.5)/2*A12*1000 -> 50.399758 | D12: =PI()/4*(A12*A12-(A12-C12/1000)^2)*8.89 -> 0.68606563 | E12: =PI()/4*(A12-C12*2/1000)^2*7.8 -> 4.9533333 | F12: =D12+E12 -> 5.6393989 | G12: =F12/(PI()/4*A12*A12) -> 7.1803057 | H12: =17.241*4/(PI()*A12^2)/B12 -> 73.173077
A13: 1 | B13: 0.3 | C13: =(1-(1-(B13-0.134265)/(1-0.134265))^0.5)/2*A13*1000 -> 50.399758 | D13: =PI()/4*(A13*A13-(A13-C13/1000)^2)*8.89 -> 0.68606563 | E13: =PI()/4*(A13-C13*2/1000)^2*7.8 -> 4.9533333 | F13: =D13+E13 -> 5.6393989 | G13: =F13/(PI()/4*A13*A13) -> 7.1803057 | H13: =17.241*4/(PI()*A13^2)/B13 -> 73.173077
A14: 1 | B14: 0.3 | C14: =(1-(1-(B14-0.134265)/(1-0.134265))^0.5)/2*A14*1000 -> 50.399758 | D14: =PI()/4*(A14*A14-(A14-C14/1000)^2)*8.89 -> 0.68606563 | E14: =PI()/4*(A14-C14*2/1000)^2*7.8 -> 4.9533333 | F14: =D14+E14 -> 5.6393989 | G14: =F14/(PI()/4*A14*A14) -> 7.1803057 | H14: =17.241*4/(PI()*A14^2)/B14 -> 73.173077
A15: 1 | B15: 0.3 | C15: =(1-(1-(B15-0.134265)/(1-0.134265))^0.5)/2*A15*1000 -> 50.399758 | D15: =PI()/4*(A15*A15-(A15-C15/1000)^2)*8.89 -> 0.68606563 | E15: =PI()/4*(A15-C15*2/1000)^2*7.8 -> 4.9533333 | F15: =D15+E15 -> 5.6393989 | G15: =F15/(PI()/4*A15*A15) -> 7.1803057 | H15: =17.241*4/(PI()*A15^2)/B15 -> 73.173077
A17: 镀银导体镀层厚度计算表
A18: 拉丝前直径 mm | B18: 拉丝后直径 mm | C18: 拉丝前银层厚度 µm | D18: 拉丝后银层厚度 µm
A19: 1.17 | B19: 0.5 | C19: 4.5 | D19: =(B19-(B19^2-4*B19^2*(A19*C19/1000-C19^2/1000000)/A19^2)^0.5)/2*1000 -> 1.9230769
A20: 1.17 | B20: 0.45 | C20: 1.3 | D20: =(B20-(B20^2-4*B20^2*(A20*C20/1000-C20^2/1000000)/A20^2)^0.5)/2*1000 -> 0.5
A21: 1.17 | B21: 0.45 | C21: 5 | D21: =(B21-(B21^2-4*B21^2*(A21*C21/1000-C21^2/1000000)/A21^2)^0.5)/2*1000 -> 1.9230769
A22: 1.17 | B22: 0.5 | C22: 4.5 | D22: =(B22-(B22^2-4*B22^2*(A22*C22/1000-C22^2/1000000)/A22^2)^0.5)/2*1000 -> 1.9230769
A23: 1.17 | B23: 0.45 | C23: 4.5 | D23: =(B23-(B23^2-4*B23^2*(A23*C23/1000-C23^2/1000000)/A23^2)^0.5)/2*1000 -> 1.7307692

Sheet 载流量计算
A1: 电线载流量的计算
A2: 导体最高使用温度TC(℃) | B2: 周围最高允许温度TA(℃) | C2: 绝缘体固有热阻抗P1(℃.cm/W) | D2: 表面散热阻抗P2(℃.cm/W) | E2: 20℃时导体有效电阻γ0(ohm/km) | F2: 允许电流衰减系数K | G2: 导体阻抗温度系数α | H2: 导体外径d1 | I2: 绝缘外径d2 | J2: 导体载流量I(A) | K2: insulation material | L2: conductor AWG
A3: 80 | B3: 40 | C3: 600 | D3: =500+I3*10 -> 525.8 | E3: =计算总表!M13 -> 12.172459 | F3: 0.58 | G3: 0.00393 | H3: =计算总表!B13 -> 1.38 | I3: =H3+2*0.6 -> 2.58 | J3: =F3*((A3-B3)/((E3/100000*(1+G3*(A3-20)))*(C3/2/PI()*LN(I3/H3)+10*D3/(PI()*I3))))^0.5 -> 11.236647 | K3: PVC | L3: 12 | M3: 1.5 | N3: 16AWG
A4: 80 | B4: 40 | C4: 600 | D4: =500+I4*10 -> 515.2 | E4: =计算总表!M14 -> 11.914695 | F4: 0.58 | G4: 0.00393 | H4: =计算总表!B14 -> 0.32 | I4: =H4+2*0.6 -> 1.52 | J4: =F4*((A4-B4)/((E4/100000*(1+G4*(A4-20)))*(C4/2/PI()*LN(I4/H4)+10*D4/(PI()*I4))))^0.5 -> 8.6277433 | K4: silicone | L4: 12 | M4: 0.05 | N4: 30AWG
A5: 80 | B5: 40 | C5: 600 | D5: =500+I5*10 -> 513.5 | E5: =计算总表!M15 -> 51.349527 | F5: 0.58 | G5: 0.00393 | H5: =计算总表!B15 -> 0.15 | I5: =H5+2*0.6 -> 1.35 | J5: =F5*((A5-B5)/((E5/100000*(1+G5*(A5-20)))*(C5/2/PI()*LN(I5/H5)+10*D5/(PI()*I5))))^0.5 -> 3.8635224 | K5: silicone | L5: 14 | M5: 0.08 | N5: 28AWG
A6: 80 | B6: 40 | C6: 600 | D6: =500+I6*10 -> 514.5 | E6: =计算总表!M16 -> 50.175824 | F6: 0.58 | G6: 0.00393 | H6: =计算总表!B16 -> 0.25 | I6: =H6+2*0.6 -> 1.45 | J6: =F6*((A6-B6)/((E6/100000*(1+G6*(A6-20)))*(C6/2/PI()*LN(I6/H6)+10*D6/(PI()*I6))))^0.5 -> 4.0899126 | K6: silicone | L6: 16 | M6: 2.5
A7: 80 | B7: 40 | C7: 600 | D7: =500+I7*10 -> 513.9 | E7: =计算总表!M17 -> 55.280592 | F7: 0.58 | G7: 0.00393 | H7: =计算总表!B17 -> 0.19 | I7: =H7+2*0.6 -> 1.39 | J7: =F7*((A7-B7)/((E7/100000*(1+G7*(A7-20)))*(C7/2/PI()*LN(I7/H7)+10*D7/(PI()*I7))))^0.5 -> 3.7960747 | K7: silicone | L7: 18 | M7: 4
A8: 125 | B8: -40 | C8: 450 | D8: =500+I8*10 -> 539.6006 | E8: =E4 -> 11.914695 | F8: 0.58 | G8: 0.00393 | H8: 2.3600596 | I8: 3.9600596 | J8: =F8*((A8-B8)/((E8/100000*(1+G8*(A8-20)))*(C8/2/PI()*LN(I8/H8)+10*D8/(PI()*I8))))^0.5 -> 26.466292 | K8: XL-PE | L8: 12
A9: 125 | B9: -40 | C9: 450 | D9: =500+I9*10 -> 534.95096 | E9: 8.5549951 | F9: 0.58 | G9: 0.00393 | H9: 1.8950965 | I9: 3.4950965 | J9: =F9*((A9-B9)/((E9/100000*(1+G9*(A9-20)))*(C9/2/PI()*LN(I9/H9)+10*D9/(PI()*I9))))^0.5 -> 29.409061 | K9: XL-PE | L9: 14

Sheet 载流量參數表
A1: 绝缘体的固有热阻抗 | D1: 表面散热系数
A2: 材料名 | B2: P1(℃.cm/W) | D2: 材料名 | E2: P2(℃.cm/W)
A3: PVC | B3: 600 | D3: 表面材料 | E3: 500+10d2(d2<=40)
A4: XL-PVC | B4: 600 | D4: 含浸渗编织 | E4: 400+20d2(d2<=20)
A5: PE | B5: 450
A6: XL-PE | B6: 450
A7: 硅橡胶 | B7: 500
A8: 乙丙橡胶 | B8: 500
A9: 氯丁橡胶 | B9: 500
A10: TFE | B10: 450
A11: FEP | B11: 400
A12: ETFE | B12: 1200
A13: 氟化PVC | B13: 1200
A15: 最高允许温度 | D15: 载流量环境衰减系数
A16: 材料名 | B16: TC(℃) | D16: 密接多条布线场合 | F16: 分层堆放布线场合
A17: PVC | B17: 60,70,80,90,105 | D17: 电线根数 | E17: 载流量环境衰减系数 | H17: 列数
A18: XL-PVC | B18: 105 | D18: 1 | E18: 1 | H18: 1 | I18: 2 | J18: 3 | K18: 4 | L18: 5 | M18: 6 | N18: 7 | O18: 8 | P18: 9 | Q18: 10
A19: PE | B19: 75 | D19: 2 | E19: 0.75 | F19: 层数 | G19: 1 | H19: 1 | I19: 0.8 | J19: 0.7 | K19: 0.65 | L19: 0.62 | M19: 0.6 | N19: 0.58 | O19: 0.57 | P19: 0.56 | Q19: 0.55
A20: XL-PE | B20: 90105125150 | D20: 3 | E20: 0.65 | G20: 2 | H20: 0.7 | I20: 0.56 | J20: 0.49 | K20: 0.45 | L20: 0.43 | M20: 0.42 | N20: 0.41 | O20: 0.4 | P20: 0.39 | Q20: 0.38
A21: 硅橡胶 | B21: 180 | D21: 4 | E21: 0.58 | G21: 3 | H21: 0.66 | I21: 0.53 | J21: 0.46 | K21: 0.43 | L21: 0.41 | M21: 0.4 | N21: 0.38 | O21: 0.37 | P21: 0.36 | Q21: 0.35
A22: 乙丙橡胶 | B22: 90 | D22: 5 | E22: 0.53 | G22: 4 | H22: 0.58 | I22: 0.46 | J22: 0.41 | K22: 0.38 | L22: 0.36 | M22: 0.35 | N22: 0.34 | O22: 0.33 | P22: 0.32 | Q22: 0.31
A23: 氯丁橡胶 | B23: **** | D23: 6 | E23: 0.49 | G23: 5 | H23: 0.45 | I23: 0.36 | J23: 0.32 | K23: 0.29 | L23: 0.28 | M23: 0.27 | N23: 0.26 | O23: 0.25 | P23: 0.24 | Q23: 0.23
A24: TFE | B24: 250 | D24: 7 | E24: 0.46
A25: FEP | B25: 200 | D25: 8 | E25: 0.43
A26: ETFE | B26: 150 | D26: 9 | E26: 0.41
A27: 氟化PVC | B27: 105 | D27: 10 | E27: 0.4
D28: 11~15 | E28: 0.34
D29: 16~20 | E29: 0.3
D30: 21~30 | E30: 0.25
D31: 31~40 | E31: 0.22
D32: 41~50 | E32: 0.2
D33: 51~60 | E33: 0.18
D34: 61~70 | E34: 0.17
D35: 71~100 | E35: 0.16

Sheet 正规绞合排列表
A1: 正规绞线结构及外径比
A2: 单线根数 | B2: 结构 | C2: 外径比 M (D/d) | D2: 单线根数 | E2: 结构 | F2: 外径比 M (D/d) | G2: 单线根数 | H2: 结构 | I2: 外径比 M (D/d) | J2: 单线根数 | K2: 结构 | L2: 外径比 M (D/d)
A3: 2 | B3: 2 | C3: 2 | D3: 19 | E3: 1+6+12 | F3: 5 | G3: 36 | H3: 6+12+18 | I3: 7 | J3: 50 | K3: 4+10+15+21 | L3: 8.414
A4: 3 | B4: 3 | C4: 2.154 | D4: 20 | E4: 1+6+13 | F4: 5.154 | G4: 37 | H4: 1+6+12+18 | I4: 7 | J4: 51 | K4: 4+10+16+21 | L4: 8.414
A5: 4 | B5: 4 | C5: 2.414 | D5: 21 | E5: 1+7+13 | F5: 5.3 | G5: 38 | H5: 1+7+12+18 | I5: 7.3 | J5: 52 | K5: 4+10+16+22 | L5: 8.414
A6: 5 | B6: 5 | C6: 2.7 | D6: 22 | E6: 1+8+13 | F6: 5.7 | G6: 38 | H6: 2+6+12+18 | I6: 8 | J6: 53 | K6: 5+10+16+22 | L6: 8.7
A7: 6 | B7: 6 | C7: 3 | D7: 23 | E7: 2+8+13 | F7: 6 | G7: 39 | H7: 1+7+13+19 | I7: 7.3 | J7: 54 | K7: 5+10+17+22 | L7: 8.7
A8: 7 | B8: 1+6 | C8: 3 | D8: 24 | E8: 2+8+14 | F8: 6 | G8: 39 | H8: 2+7+12+18 | I8: 8 | J8: 55 | K8: 5+11+17+22 | L8: 8.7
A9: 8 | B9: 1+7 | C9: 3.3 | D9: 25 | E9: 3+8+14 | F9: 6.154 | G9: 40 | H9: 1+7+13+19 | I9: 7.3 | J9: 56 | K9: 5+11+17+23 | L9: 8.7
A10: 9 | B10: 1+8 | C10: 3.7 | D10: 26 | E10: 3+9+14 | F10: 6.154 | G10: 40 | H10: 2+7+12+19 | I10: 8 | J10: 57 | K10: 6+11+17+23 | L10: 9
A11: 10 | B11: 2+8 | C11: 4 | D11: 27 | E11: 3+9+15 | F11: 6.154 | G11: 41 | H11: 2+7+13+19 | I11: 8 | J11: 58 | K11: 6+12+17+23 | L11: 9
A12: 11 | B12: 3+8 | C12: 4.154 | D12: 28 | E12: 4+9+15 | F12: 6.414 | G12: 42 | H12: 2+8+13+19 | I12: 8 | J12: 59 | K12: 6+12+18+23 | L12: 9
A13: 12 | B13: 3+9 | C13: 4.154 | D13: 29 | E13: 4+9+16 | F13: 6.414 | G13: 43 | H13: 2+8+14+19 | I13: 8 | J13: 60 | K13: 6+12+18+24 | L13: 9
A14: 13 | B14: 4+9 | C14: 4.414 | D14: 30 | E14: 4+10+16 | F14: 6.414 | G14: 44 | H14: 2+8+14+20 | I14: 8 | J14: 61 | K14: 1+6+12+18+24 | L14: 9
A15: 14 | B15: 4+10 | C15: 4.414 | D15: 31 | E15: 5+10+16 | F15: 6.7 | G15: 45 | H15: 3+8+14+20 | I15: 8.154 | J15: 62 | K15: 2+6+12+18+24 | L15: 10
A16: 15 | B16: 5+10 | C16: 4.7 | D16: 32 | E16: 5+11+16 | F16: 6.7 | G16: 46 | H16: 3+9+14+20 | I16: 8.154 | J16: 63 | K16: 1+7+13+18+24 | L16: 9.3
A17: 16 | B17: 5+11 | C17: 4.7 | D17: 33 | E17: 5+11+17 | F17: 6.7 | G17: 47 | H17: 3+9+15+20 | I17: 8.154 | J17: 63 | K17: 2+7+12+18+24 | L17: 10
A18: 17 | B18: 0+6+11 | C18: 5 | D18: 34 | E18: 6+11+17 | F18: 7 | G18: 48 | H18: 3+9+15+21 | I18: 8.154 | J18: 64 | K18: 2+7+13+18+24 | L18: 10
A19: 18 | B19: 0+6+12 | C19: 5 | D19: 35 | E19: 6+12+17 | F19: 7 | G19: 49 | H19: 4+9+15+21 | I19: 8.414 | J19: 91 | K19: 1+6+12+18+24+30 | L19: 11
J20: 127 | K20: 1+6+12+18+24+30+36 | L20: 13

Sheet Sheet9

Sheet Sheet10

Sheet Sheet11

Sheet Sheet12

Sheet Sheet13

Sheet Sheet14

Sheet Sheet15

Sheet Sheet16

Sheet Sheet1
